BEGIN:VCALENDAR
VERSION:2.0
PRODID:-//Théhillac - ECPv6.15.14//NONSGML v1.0//EN
CALSCALE:GREGORIAN
METHOD:PUBLISH
X-ORIGINAL-URL:https://thehillac.fr
X-WR-CALDESC:Évènements pour Théhillac
REFRESH-INTERVAL;VALUE=DURATION:PT1H
X-Robots-Tag:noindex
X-PUBLISHED-TTL:PT1H
BEGIN:VTIMEZONE
TZID:UTC
BEGIN:STANDARD
TZOFFSETFROM:+0000
TZOFFSETTO:+0000
TZNAME:UTC
DTSTART:20210101T000000
END:STANDARD
END:VTIMEZONE
BEGIN:VEVENT
DTSTART;VALUE=DATE:20220714
DTEND;VALUE=DATE:20220715
DTSTAMP:20260421T212044
CREATED:20220518T081039Z
LAST-MODIFIED:20230420T121628Z
UID:2743-1657756800-1657843199@thehillac.fr
SUMMARY:Moules frites OGEC
DESCRIPTION:
URL:https://thehillac.fr/evenement/moules-frites-ogec/
CATEGORIES:Agenda
END:VEVENT
BEGIN:VEVENT
DTSTART;VALUE=DATE:20220722
DTEND;VALUE=DATE:20220723
DTSTAMP:20260421T212044
CREATED:20220518T081108Z
LAST-MODIFIED:20230420T121628Z
UID:2745-1658448000-1658534399@thehillac.fr
SUMMARY:Loto AEP
DESCRIPTION:
URL:https://thehillac.fr/evenement/loto-aep/
CATEGORIES:Agenda
END:VEVENT
END:VCALENDAR